BEGIN:VCALENDAR
VERSION:2.0
PRODID:-//Spreydon Tennis Club (Inc.) - ECPv4.6.26.1//NONSGML v1.0//EN
CALSCALE:GREGORIAN
METHOD:PUBLISH
X-WR-CALNAME:Spreydon Tennis Club (Inc.)
X-ORIGINAL-URL:http://spreydontennis.co.nz
X-WR-CALDESC:Events for Spreydon Tennis Club (Inc.)
BEGIN:VEVENT
DTSTART;TZID=UTC+12:20181128T160000
DTEND;TZID=UTC+12:20181128T190000
DTSTAMP:20181221T205735
CREATED:20181010T215841Z
LAST-MODIFIED:20181010T215841Z
UID:215-1543420800-1543431600@spreydontennis.co.nz
SUMMARY:Junior Interclub Coaching
DESCRIPTION:4 PM – 7 PM (Coaching groups allocated by age and team – please email us if in doubt) \nCoached by Andrew Stanton \nCancellations and Postponements will be notified via our Facebook page and/or by txt. \n
URL:http://spreydontennis.co.nz/?tribe_events=junior-interclub-coaching-7
LOCATION:Spreydon Tennis Club\, 71 Domain Terrace\, Christchurch\, Canterbury\, 8024\, New Zealand
ORGANIZER;CN="Spreydon%20TC%20%28Juniors%29":MAILTO:juniors@spreydontennis.co.nz
END:VEVENT
BEGIN:VEVENT
DTSTART;TZID=UTC+12:20181128T160000
DTEND;TZID=UTC+12:20181128T190000
DTSTAMP:20181221T205735
CREATED:20181010T215932Z
LAST-MODIFIED:20181010T215932Z
UID:217-1543420800-1543431600@spreydontennis.co.nz
SUMMARY:Junior Interclub Coaching
DESCRIPTION:4 PM – 7 PM (Coaching groups allocated by age and team – please email us if in doubt) \nCoached by Andrew Stanton \nCancellations and Postponements will be notified via our Facebook page and/or by txt. \n
URL:http://spreydontennis.co.nz/?tribe_events=junior-interclub-coaching-8
LOCATION:Spreydon Tennis Club\, 71 Domain Terrace\, Christchurch\, Canterbury\, 8024\, New Zealand
ORGANIZER;CN="Spreydon%20TC%20%28Juniors%29":MAILTO:juniors@spreydontennis.co.nz
END:VEVENT
BEGIN:VEVENT
DTSTART;TZID=UTC+12:20181201T090000
DTEND;TZID=UTC+12:20181201T110000
DTSTAMP:20181221T205735
CREATED:20181010T212320Z
LAST-MODIFIED:20181010T212320Z
UID:177-1543654800-1543662000@spreydontennis.co.nz
SUMMARY:Junior Coaching (Hot Shots)
DESCRIPTION:9 AM – 10.45 AM (9 AM: 9+ Green Hot Shots\, 10 AM 8 & under Red/Orange) \nCoached by Red Stripe Tennis Academy \nCancellations and Postponements will be notified via our Website and Facebook page. \n
URL:http://spreydontennis.co.nz/?tribe_events=junior-coaching-hot-shots-6
LOCATION:Spreydon Tennis Club\, 71 Domain Terrace\, Christchurch\, Canterbury\, 8024\, New Zealand
ORGANIZER;CN="Spreydon%20TC%20%28Juniors%29":MAILTO:juniors@spreydontennis.co.nz
END:VEVENT
BEGIN:VEVENT
DTSTART;TZID=UTC+12:20181205T160000
DTEND;TZID=UTC+12:20181205T190000
DTSTAMP:20181221T205735
CREATED:20181010T220019Z
LAST-MODIFIED:20181010T220019Z
UID:219-1544025600-1544036400@spreydontennis.co.nz
SUMMARY:Junior Interclub Coaching
DESCRIPTION:4 PM – 7 PM (Coaching groups allocated by age and team – please email us if in doubt) \nCoached by Andrew Stanton \nCancellations and Postponements will be notified via our Facebook page and/or by txt. \n
URL:http://spreydontennis.co.nz/?tribe_events=junior-interclub-coaching-9
LOCATION:Spreydon Tennis Club\, 71 Domain Terrace\, Christchurch\, Canterbury\, 8024\, New Zealand
ORGANIZER;CN="Spreydon%20TC%20%28Juniors%29":MAILTO:juniors@spreydontennis.co.nz
END:VEVENT
BEGIN:VEVENT
DTSTART;TZID=UTC+12:20181208T090000
DTEND;TZID=UTC+12:20181208T110000
DTSTAMP:20181221T205735
CREATED:20181010T212536Z
LAST-MODIFIED:20181010T212536Z
UID:179-1544259600-1544266800@spreydontennis.co.nz
SUMMARY:Junior Coaching (Hotshots)
DESCRIPTION:9 AM – 10.45 AM (9 AM: 9+ Green Hot Shots\, 10 AM 8 & under Red/Orange) \nCoached by Red Stripe Tennis Academy \nCancellations and Postponements will be notified via our Website and Facebook page. \n
URL:http://spreydontennis.co.nz/?tribe_events=junior-coaching-hotshots
LOCATION:Spreydon Tennis Club\, 71 Domain Terrace\, Christchurch\, Canterbury\, 8024\, New Zealand
ORGANIZER;CN="Spreydon%20TC%20%28Juniors%29":MAILTO:juniors@spreydontennis.co.nz
END:VEVENT
BEGIN:VEVENT
DTSTART;TZID=UTC+12:20181212T160000
DTEND;TZID=UTC+12:20181212T190000
DTSTAMP:20181221T205735
CREATED:20181010T220109Z
LAST-MODIFIED:20181010T220109Z
UID:221-1544630400-1544641200@spreydontennis.co.nz
SUMMARY:Junior Interclub Coaching
DESCRIPTION:4 PM – 7 PM (Coaching groups allocated by age and team – please email us if in doubt) \nCoached by Andrew Stanton \nCancellations and Postponements will be notified via our Facebook page and/or by txt. \n
URL:http://spreydontennis.co.nz/?tribe_events=junior-interclub-coaching-10
LOCATION:Spreydon Tennis Club\, 71 Domain Terrace\, Christchurch\, Canterbury\, 8024\, New Zealand
ORGANIZER;CN="Spreydon%20TC%20%28Juniors%29":MAILTO:juniors@spreydontennis.co.nz
END:VEVENT
BEGIN:VEVENT
DTSTART;TZID=UTC+12:20181215T090000
DTEND;TZID=UTC+12:20181215T110000
DTSTAMP:20181221T205735
CREATED:20181010T212635Z
LAST-MODIFIED:20181010T212635Z
UID:181-1544864400-1544871600@spreydontennis.co.nz
SUMMARY:Junior Coaching (Hot Shots)
DESCRIPTION:9 AM – 10.45 AM (9 AM: 9+ Green Hot Shots\, 10 AM 8 & under Red/Orange) \nCoached by Red Stripe Tennis Academy \nCancellations and Postponements will be notified via our Website and Facebook page. \n
URL:http://spreydontennis.co.nz/?tribe_events=junior-coaching-hot-shots-7
LOCATION:Spreydon Tennis Club\, 71 Domain Terrace\, Christchurch\, Canterbury\, 8024\, New Zealand
ORGANIZER;CN="Spreydon%20TC%20%28Juniors%29":MAILTO:juniors@spreydontennis.co.nz
END:VEVENT
END:VCALENDAR